BEGIN:VCALENDAR
VERSION:2.0
PRODID:-//Les Tanuki à l&#039;Ouest - ECPv6.15.13//NONSGML v1.0//EN
CALSCALE:GREGORIAN
METHOD:PUBLISH
X-ORIGINAL-URL:http://www.lestanukialouest.fr
X-WR-CALDESC:Évènements pour Les Tanuki à l&#039;Ouest
REFRESH-INTERVAL;VALUE=DURATION:PT1H
X-Robots-Tag:noindex
X-PUBLISHED-TTL:PT1H
BEGIN:VTIMEZONE
TZID:Europe/Paris
BEGIN:DAYLIGHT
TZOFFSETFROM:+0100
TZOFFSETTO:+0200
TZNAME:CEST
DTSTART:20210328T010000
END:DAYLIGHT
BEGIN:STANDARD
TZOFFSETFROM:+0200
TZOFFSETTO:+0100
TZNAME:CET
DTSTART:20211031T010000
END:STANDARD
BEGIN:DAYLIGHT
TZOFFSETFROM:+0100
TZOFFSETTO:+0200
TZNAME:CEST
DTSTART:20220327T010000
END:DAYLIGHT
BEGIN:STANDARD
TZOFFSETFROM:+0200
TZOFFSETTO:+0100
TZNAME:CET
DTSTART:20221030T010000
END:STANDARD
BEGIN:DAYLIGHT
TZOFFSETFROM:+0100
TZOFFSETTO:+0200
TZNAME:CEST
DTSTART:20230326T010000
END:DAYLIGHT
BEGIN:STANDARD
TZOFFSETFROM:+0200
TZOFFSETTO:+0100
TZNAME:CET
DTSTART:20231029T010000
END:STANDARD
END:VTIMEZONE
BEGIN:VEVENT
DTSTART;TZID=Europe/Paris:20220917T181500
DTEND;TZID=Europe/Paris:20220917T210000
DTSTAMP:20260421T141405
CREATED:20220902T200432Z
LAST-MODIFIED:20230107T164757Z
UID:3888-1663438500-1663448400@www.lestanukialouest.fr
SUMMARY:Otsukimi – Contes sous la lune
DESCRIPTION:Narration franco-japonaise de contes en plein air sous la lune\, dégustation de wagashi (gâteaux traditionnels japonais) et animations. \n\nApporter une chaise pliante ou une couverture pour s’asseoir et prévoir un vêtement chaud.\nEn cas de beau temps : rendez-vous à 18h15 sur la pelouse du cheval de bronze dans le Parc\, près de la place Charlemagne\, entre la rue Picard et la rue Destouches à Maisons-Laffitte.\nEn cas de pluie : l’activité aura lieu à 20h00 à la salle Lacaze\, 24 rue du Mesnil à Maisons-Laffitte.
URL:http://www.lestanukialouest.fr/event/otsukimi-contes-sous-la-lune/
LOCATION:Pelouse du Cheval de Bronze\, rue Picard\, Maisons-Laffitte\, 78600\, France
CATEGORIES:Activités
ORGANIZER;CN="Tanuki %C3%A0 l'Ouest":MAILTO:contact@tanukialouest.fr
END:VEVENT
END:VCALENDAR